BEGIN:VCALENDAR
VERSION:2.0
PRODID:-//Welcome to Reel Sisters of the Diaspora - ECPv6.15.20//NONSGML v1.0//EN
CALSCALE:GREGORIAN
METHOD:PUBLISH
X-ORIGINAL-URL:https://reelsisters.org
X-WR-CALDESC:Events for Welcome to Reel Sisters of the Diaspora
REFRESH-INTERVAL;VALUE=DURATION:PT1H
X-Robots-Tag:noindex
X-PUBLISHED-TTL:PT1H
BEGIN:VTIMEZONE
TZID:America/New_York
BEGIN:DAYLIGHT
TZOFFSETFROM:-0500
TZOFFSETTO:-0400
TZNAME:EDT
DTSTART:20230312T070000
END:DAYLIGHT
BEGIN:STANDARD
TZOFFSETFROM:-0400
TZOFFSETTO:-0500
TZNAME:EST
DTSTART:20231105T060000
END:STANDARD
BEGIN:DAYLIGHT
TZOFFSETFROM:-0500
TZOFFSETTO:-0400
TZNAME:EDT
DTSTART:20240310T070000
END:DAYLIGHT
BEGIN:STANDARD
TZOFFSETFROM:-0400
TZOFFSETTO:-0500
TZNAME:EST
DTSTART:20241103T060000
END:STANDARD
BEGIN:DAYLIGHT
TZOFFSETFROM:-0500
TZOFFSETTO:-0400
TZNAME:EDT
DTSTART:20250309T070000
END:DAYLIGHT
BEGIN:STANDARD
TZOFFSETFROM:-0400
TZOFFSETTO:-0500
TZNAME:EST
DTSTART:20251102T060000
END:STANDARD
BEGIN:DAYLIGHT
TZOFFSETFROM:-0500
TZOFFSETTO:-0400
TZNAME:EDT
DTSTART:20260308T070000
END:DAYLIGHT
BEGIN:STANDARD
TZOFFSETFROM:-0400
TZOFFSETTO:-0500
TZNAME:EST
DTSTART:20261101T060000
END:STANDARD
END:VTIMEZONE
BEGIN:VTIMEZONE
TZID:Asia/Dubai
BEGIN:STANDARD
TZOFFSETFROM:+0400
TZOFFSETTO:+0400
TZNAME:+04
DTSTART:20230101T000000
END:STANDARD
END:VTIMEZONE
BEGIN:VTIMEZONE
TZID:UTC
BEGIN:STANDARD
TZOFFSETFROM:+0000
TZOFFSETTO:+0000
TZNAME:UTC
DTSTART:20230101T000000
END:STANDARD
END:VTIMEZONE
BEGIN:VEVENT
DTSTART;VALUE=DATE:20251025
DTEND;VALUE=DATE:20251111
DTSTAMP:20260423T094610
CREATED:20251015T193239Z
LAST-MODIFIED:20251015T193239Z
UID:5367-1761350400-1762819199@reelsisters.org
SUMMARY:Reel Sisters Virtual Showcase 2025 - Program 6
DESCRIPTION:Reel Sisters is proud to present our selection of fine virtual films that you can enjoy from your living room or couch! Each section is $5 and no extra charge for film lovers who purchased All Access Passes! \nThe collection will be available from Saturday\, Oct. 25 through Monday\, Nov. 10\, 2025 (11:59 pm EST)! \nInvite friends over and have a watch party! \n \nVIRTUAL PROGRAM 6 – Barrel Children \n\n\n \nBarrel Children: The Families Windrush Left Behind \nDirector/Writer: Nadine White \nProducer: Nadine White\, John Johnston\, Jordan Walters \ndocumentary\, 55:42 min. \nA stellar debut film from award-winning journalist Nadine White\, Barrel Children: The Families Windrush Left Behind peels back the layered tales of Caribbean youngsters who grew up away from their parents before migrating to join them in Britain.
URL:https://reelsisters.org/event/virtual-showcase-2025-program-6/
LOCATION:Virtual Program
CATEGORIES:Virtual Program - Oct. 25 to Nov. 10, 2025
ATTACH;FMTTYPE=image/jpeg:https://reelsisters.org/wp-content/uploads/2025/10/Barrel-Children.jpg
ORGANIZER;CN="Reel Sisters of the Diaspora":MAILTO:reelsisters@yahoo.com
END:VEVENT
BEGIN:VEVENT
DTSTART;VALUE=DATE:20251025
DTEND;VALUE=DATE:20251111
DTSTAMP:20260423T094610
CREATED:20251015T192805Z
LAST-MODIFIED:20251015T192805Z
UID:5364-1761350400-1762819199@reelsisters.org
SUMMARY:Reel Sisters Virtual Showcase 2025 - Program 5
DESCRIPTION:Reel Sisters is proud to present our selection of fine virtual films that you can enjoy from your living room or couch! Each section is $5 and no extra charge for film lovers who purchased All Access Passes! \nThe collection will be available from Saturday\, Oct. 25 through Monday\, Nov. 10\, 2025 (11:59 pm EST)! \nInvite friends over and have a watch party! \n \nVIRTUAL PROGRAM 5 – The People’s Way \n\n\n \nThe People’s Way \nDirector: William Taft Tyner\, Ashley Tyner \nProducer: Michael Tyner \nnarrative\, 90 min. \nGrappling with the impact of George Floyd’s murder in Minneapolis\, three community organizers\, Jeanelle Austin\, Toshira Garraway\, and Robin Wonsley embark on interweaving journeys to care for their communities\, find inner healing and build a future towards black liberation.
URL:https://reelsisters.org/event/virtual-showcase-2025-program-5/
LOCATION:Virtual Program
CATEGORIES:Virtual Program - Oct. 25 to Nov. 10, 2025
ATTACH;FMTTYPE=image/jpeg:https://reelsisters.org/wp-content/uploads/2025/10/the-peoples-way.jpg
ORGANIZER;CN="Reel Sisters of the Diaspora":MAILTO:reelsisters@yahoo.com
END:VEVENT
BEGIN:VEVENT
DTSTART;VALUE=DATE:20251025
DTEND;VALUE=DATE:20251111
DTSTAMP:20260423T094610
CREATED:20251015T192008Z
LAST-MODIFIED:20251015T192008Z
UID:5357-1761350400-1762819199@reelsisters.org
SUMMARY:Reel Sisters Virtual Showcase 2025 - Program 4
DESCRIPTION:Reel Sisters is proud to present our selection of fine virtual films that you can enjoy from your living room or couch! Each section is $5 and no extra charge for film lovers who purchased All Access Passes! \nThe collection will be available from Saturday\, Oct. 25 through Monday\, Nov. 10\, 2025 (11:59 pm EST)! \nInvite friends over and have a watch party! \n \nVIRTUAL PROGRAM 4 – Family Ties \n\n\n \nRocked by the Wind \nProducer/Director/Writer: Hsiao-Shan Huang \nAnimation\, 13:36 min. \nSeeking his bandmates and escaping chores\, high school senior Shuan headed to the city\, only to be caught in a typhoon later that day. Navigating the fierce storm became an unexpected test in his pursuit of their dream. \n \nSummer Ripples \nDirector: Yijian Shan \nWriter: Yijian Shan \nProducer: Manqi Liu\, Kunao Yan \nnarrative\, 20:25 min. \nIn the earthquake-prone city\, a lonely Qian meets her online acquaintance Chen Li to end their lives together. As they roam around\, their connection deepens. Faced with the exhausted city\, the subtle connection between desire and death remains elusive to them. \n \nMemories of ZHI \nDirector: Mingxing Li \nnarraive\, 22:29 min. \nIn 2013 China\, a sudden event leads 16-year-old orphan Zhi to accidentally kill a boy. Seeking refuge\, Zhi flees to a Buddhist monastery\, where he meets a kind woman who\, unbeknownst to him\, is the mother of the deceased boy. Instead of continuing to flee\, Zhi decides to deceive the police in an attempt to stay close to her\, drawn by the motherly warmth he feels from her. \n \nFalcon Eyes \nDirector/Writer: Annlin Chao \nProducer: Ariel Liu\, George Bushaway \nnarrative\, 20 min. \nFourteen-year-old June struggles with face blindness\, a condition that makes it impossible for her to recognise people’s faces. As she tries to remember her deceased mother’s face\, June also uncovers a secret kept by her father. \n \nGrandma’s Four Color Cards \nDirector: Sally Phuong Tran \nProducer: Ngân Lê\, Kiều Vy \nexperimental\, 11 min. \nFrom her tiny house in Saigon’s District 4\, 101-year-old Ngoai runs an illegal card game\, a traditional Vietnamese pastime\, to survive in the slums. With her loyal cat and the support of neighbors\, she navigates poverty\, demonstrating resilience and strength as a beloved figure in her community.
URL:https://reelsisters.org/event/virtual-showcase-2025-program-4/
LOCATION:Virtual Program
CATEGORIES:Virtual Program - Oct. 25 to Nov. 10, 2025
ATTACH;FMTTYPE=image/jpeg:https://reelsisters.org/wp-content/uploads/2025/10/summer-ripples.jpg
ORGANIZER;CN="Reel Sisters of the Diaspora":MAILTO:reelsisters@yahoo.com
END:VEVENT
BEGIN:VEVENT
DTSTART;VALUE=DATE:20251025
DTEND;VALUE=DATE:20251111
DTSTAMP:20260423T094610
CREATED:20251015T190819Z
LAST-MODIFIED:20251105T030810Z
UID:5350-1761350400-1762819199@reelsisters.org
SUMMARY:Reel Sisters Virtual Showcase 2025 - Program 3
DESCRIPTION:Reel Sisters is proud to present our selection of fine virtual films that you can enjoy from your living room or couch! Each section is $5 and no extra charge for film lovers who purchased All Access Passes! \nThe collection will be available from Saturday\, Oct. 25 through Monday\, Nov. 10\, 2025 (11:59 pm EST)! \nInvite friends over and have a watch party! \n \nVIRTUAL PROGRAM 3 – Dreams In Motion \n\n\n \nDark Skin Bruises Differently \nDirector/Writer: Susan Wokoma \nProducer: Susan Wokoma\, Maëva Demurger \nnarrative\, 10:52 min. \nChildren lie. But when one lie threatens Ms Lawson’s integrity as a teacher\, can she keep on defending a student as peculiar as Maria Obasi? \n \nLana \nDirector: Laetitia Angba\, Julie R. Lissouba \nWriter: Laetitia Angba \nProducer: Rocío Barba Fuentes \nnarrative\, 16:18 min. \nLana\, in her chaotic teenage years\, doesn’t live her life exactly as everyone else. Her father\, Benjamin\, is threaten of deportation from Canada and her family deals everyday with the fear of an expected separation. \n \nZari \nDirector/Writer: Shruti Parekh \nProducer: Shruti Parekh\, Kajri Akhtar \nnarrative\, 19:16 min. \nAmerican teen Neelu feels like a fish out of water amidst preparations for her sister’s wedding in Delhi until she forges a brief and unexpected connection with Zeyb\, a quiet sari store clerk who moonlights as an internet drag queen. \n \nCan You Hear Me \nDirector: Shiam Shams\, Sayba Talukder \nWriter: Shiam Shams \nProducer: Rezwan Shahriar Sumit \nnarrative\, 16:59 min. \nIn the cacophony of Dhaka\, Drik\, a deaf 9-year-old\, finds solace \nin his friend Saibo’s stories during their daily rides to school. Their unique bond bridges their different hearing abilities\, creating a peaceful haven amidst the chaos. When Saibo suddenly vanishes\, Drik is left alone and vulnerable. Lost in Saibo’s drawings\, Drik experiences vivid visions of the ocean\, but his joy is tempered by worry for his missing friend.
URL:https://reelsisters.org/event/virtual-showcase-2025-program-3/
LOCATION:Virtual Program
CATEGORIES:Virtual Program - Oct. 25 to Nov. 10, 2025
ATTACH;FMTTYPE=image/jpeg:https://reelsisters.org/wp-content/uploads/2025/10/zari.jpg
ORGANIZER;CN="Reel Sisters of the Diaspora":MAILTO:reelsisters@yahoo.com
END:VEVENT
BEGIN:VEVENT
DTSTART;VALUE=DATE:20251025
DTEND;VALUE=DATE:20251111
DTSTAMP:20260423T094610
CREATED:20251015T185332Z
LAST-MODIFIED:20251015T185444Z
UID:5343-1761350400-1762819199@reelsisters.org
SUMMARY:Reel Sisters Virtual Showcase 2025 - Program 2
DESCRIPTION:Reel Sisters is proud to present our selection of fine virtual films that you can enjoy from your living room or couch! Each section is $5 and no extra charge for film lovers who purchased All Access Passes! \nThe collection will be available from Saturday\, Oct. 25 through Monday\, Nov. 10\, 2025 (11:59 pm EST)! \nInvite friends over and have a watch party! \n \nVIRTUAL PROGRAM 2 – Bitter Truths \n\n\n \nThe Village It Took \nProducer/Director/Writer: Victoria Wilcox \nnarrative\, 12 min. \nAfter Everstone University (predominately White institution) denies funding the day of the 56th Annual open mic night of the Black Student Union (BSU)\, BSU event planner Ozanna writes an unauthorized check out of desperation\, to protect this event of community & escapism. With not enough money in the bank account when the check is deposited by the vendor\, the account is over-drafted. \n \n117 Years of Movie Bullsh*t \nDirector: Candice Vernon \nWriter: Candice Vernon\, Frank Adkinson \nProducer: Frank Adkinson\, Blue Kimble \nnarrative\, 29:50 min. \nFrank and Candice\, two aspiring Hollywood stars are sent back in time\, during the Gone With the Wind Era\, by the evil Dick Whitman\, an old school studio exec. As Frank and Candice try to get back to the present time\, they keep getting stuck in movies of the past as token Black characters. \n \nBack to Where We Were//In The Presence of Our Ancestors \nDirector/Writer: SHARAYNA ASHANTI CHRISTMAS \nProducer: SHARAYNA ASHANTI CHRISTMAS\, Bilphena Yahwon \nexperimental\, 4:18 min. \nBack to Where We Were //In the Presence of Our Ancestors is a narrative short film directed by Sharayna Christmas that invites us to reflect on the continuity of our past\, present\, and future. The film weaves ancestral presence\, the healing power of water\, and the regenerative force of land into a tapestry of guidance and transcendence. Set against the evocative backdrop of St. Helena Island\, a sacred Gullah site\, the work channels movement inspired by the ancestors of Igbo Landing\, accompanied by the resonant music of Georgia Anne Muldrow. \n \nOwnership \nDirector: Yvonne Huff Lee \nWriter: Peppur Chambers \nProducer: Yvonne Huff Lee\, Peppur Chambers\, Matthew Soraci \nnarrative\, 30 min. \nWhen an innocent invitation to an antiques reality show unearths shameful skeletons between two families –one black\, one white — three multi-generational women are forced to take painful ownership of their present reality.
URL:https://reelsisters.org/event/virtual-showcase-2025-program-2/
LOCATION:Virtual Program
CATEGORIES:Virtual Program - Oct. 25 to Nov. 10, 2025
ATTACH;FMTTYPE=image/jpeg:https://reelsisters.org/wp-content/uploads/2025/10/117-years-of-movie-bull.jpg
ORGANIZER;CN="Reel Sisters of the Diaspora":MAILTO:reelsisters@yahoo.com
END:VEVENT
BEGIN:VEVENT
DTSTART;VALUE=DATE:20251025
DTEND;VALUE=DATE:20251111
DTSTAMP:20260423T094610
CREATED:20251015T180400Z
LAST-MODIFIED:20251015T193343Z
UID:5334-1761350400-1762819199@reelsisters.org
SUMMARY:Reel Sisters Virtual Showcase 2025 - Program 1
DESCRIPTION:Reel Sisters is proud to present our selection of fine virtual films that you can enjoy from your living room or couch! Each section is $5 and no extra charge for film lovers who purchased All Access Passes! \nThe collection will be available from Saturday\, Oct. 25 through Monday\, Nov. 10\, 2025 (11:59 pm EST)! \nInvite friends over and have a watch party! \n \nVIRTUAL PROGRAM 1 – Shattered Youth \n \nRed Clay \nDirector: Christian Nolan Jones \nWriter: Omar Epps\, Tauheed “2 Chainz” Epps \nProducer: Sade Wilkins \nnarrative\, 21:20 min. \n“Red Clay” tells the poignant story of Nook\, a conflicted teenager navigating the challenging terrains of adolescence amidst his mother’s crippling drug addiction. Caught in a rampant cycle of poverty and desperation within his community\, Nook dreams of a better life\, but finds himself ensnared in the very world he envisions escaping. \n \nBy the Lake \nDirector: Alex Dauphin \nWriter: Alex Dauphin \nProducer: Alex Dauphin\, Sable Williams\, Amer-Marie Woods \nnarrative\, 25:21 min. \nLuce is a Black loner from the city whose hard past makes them distrust the future. Reina is a White firecracker from Appalachia who has never heard a “no” she couldn’t sway. While Luce shoots up in an abandoned warehouse\, Reina pops pills at home. Both OD. Their paths interwine as they both struggle to get clean. \n \nShallow End \nDirector: Maria de la Cruz Rudloff \nWriter: Maria de la Cruz Rudloff \nProducer: Maria de la Cruz Rudloff\, Janet Valentina Manina\, Anne Leigh Cooper \nnarrative\, 15 min. \nTwenty-something year old Agatha comes home after a lengthy stay in rehab\, a shattered person. In her small town\, everything seems to remind her of the life she once had and the people she held dear before it all went wrong. \n \nDon’t be late\, Myra \nDirector: Afia Serena Nathaniel \nWriter: Afia Serena Nathaniel \nProducer: Afia Serena Nathaniel\, Nouman Waheed \nnarrative\, 15 min. \nA missed school bus leaves ten-year-old Myra stranded in Lahore\, where her journey home spirals into a tense fight for survival against the men who stalk her every step. \n.
URL:https://reelsisters.org/event/virtual-showcase-2025-program-1/
LOCATION:Virtual Program
CATEGORIES:Virtual Program - Oct. 25 to Nov. 10, 2025
ATTACH;FMTTYPE=image/png:https://reelsisters.org/wp-content/uploads/2025/10/dont-be-late-myra.png
ORGANIZER;CN="Reel Sisters of the Diaspora":MAILTO:reelsisters@yahoo.com
END:VEVENT
BEGIN:VEVENT
DTSTART;VALUE=DATE:20241005
DTEND;VALUE=DATE:20241101
DTSTAMP:20260423T094610
CREATED:20241003T212505Z
LAST-MODIFIED:20241003T212732Z
UID:4642-1728086400-1730419199@reelsisters.org
SUMMARY:Reel Sisters Virtual Showcase 2024 - Program 6
DESCRIPTION:Reel Sisters is proud to present our selection of fine virtual films that you can enjoy from your living room or couch! Each section is $5 and no extra charge for film lovers who purchased All Access Passes! \n \nThe collection will be available from Oct. 5 through Oct. 31\, 2024 (11:59 pm EST)! \nInvite friends over and have a watch party! \nVIRTUAL PROGRAM 6 \n \n\n\nWELL \nProducers: Toni Cunningham\, Eden Sabolboro\, Paige Wood \nDirectors: Toni Cunningham\, Eden Sabolboro \nWriter: Toni Cunningham \nnarrative\, 12 min. \nWELL depicts the story of one Black American family through 50 years as they fight to stay healthy through three different crises. Through the Tuskegee Experiment\, the Flint Water Crisis\, and now Covid-19\, the family has survived amidst endless obstacles to their health. After losing a loved one to Covid-19\, they must reckon with the harm and distrust that has permeated their family for decades. \n \nFIR \nProducers: Adéla Konečná\, Barbora Smotlachová \nDirector/Writer: Xueni Yang \nnarrative\, 21 min. \nIn a suburb of Prague\, a lonely girl encounters a lost foreign young man. Despite the age difference\, she finds a missing sense of belonging through their shared doubts about home. \n \nThe Golden Boy \nProducer: Earleatha Oppon \nDirector/Writer: Elizabeth Peace \nnarrative\, 15 min. \nA family drama\, about a non-verbal autistic six-year-old boy who with the help of his older sister\, proves that his high support needs can’t stop his potential. \n \nFrom Yard – “Same School” \nProducers: Phaedra Benford\, Norman Hamilton\, Andrea Hamilton\, Patrick A. Aitcheson\, David Heron\, David Walcott \nDirector: Leland Benford \nWriters: Noel E. Dunn\, Maya Hall\, David G. Heron \nnarrative\, 11:45 min. \nA Jamaican immigrant now working in New York as a parole officer is forced to make the tough decision to take in one of his parolees despite them both growing up in the same city of Kingston. \n\n\n \nSkate \nProducer: Remi R.M Moses Director: Kasey-Anais Blondell \nWriter: Kasey-Anais Blondell \nnarrative\, 11 min. \nThea\, a lonely 19-year-old girl\, struggles to learn how to skateboard on her own. When Thea meets a welcoming community of skater girls at a house party\, she is empowered to deal with her social anxiety through skateboarding.
URL:https://reelsisters.org/event/virtual-showcase-program-6/
LOCATION:Virtual Program
CATEGORIES:Virtual Program - Oct. 25 to Nov. 10, 2025
ATTACH;FMTTYPE=image/png:https://reelsisters.org/wp-content/uploads/2024/10/Well-2.png
ORGANIZER;CN="Reel Sisters of the Diaspora":MAILTO:reelsisters@yahoo.com
END:VEVENT
BEGIN:VEVENT
DTSTART;VALUE=DATE:20241005
DTEND;VALUE=DATE:20241101
DTSTAMP:20260423T094610
CREATED:20241003T210023Z
LAST-MODIFIED:20241003T210105Z
UID:4633-1728086400-1730419199@reelsisters.org
SUMMARY:Reel Sisters Virtual Showcase 2024 - Program 5
DESCRIPTION:Reel Sisters is proud to present our selection of fine virtual films that you can enjoy from your living room or couch! Each section is $5 and no extra charge for film lovers who purchased All Access Passes! \n \nThe collection will be available from Oct. 5 through Oct. 31\, 2024 (11:59 pm EST)! \nInvite friends over and have a watch party! \nVIRTUAL PROGRAM 5 \n \nHair \nProducer: Amy E. Powell Directors: Wendy Mateo\, Lorena Diaz \nWriters: Wendy Mateo\, Lorena Diaz \ncomedy\, 6 min. \nIn Mari’s salon\, it’s just another day where they spill the tea about life. But today Christina comes in late and through her hair mishaps they rally around her when the truth is revealed. \n \nPetting Zoo \nProducer: Alexus L. Addison Director: Malcolm Lott \nWriter: Sherryle Kiser- Jackson \nnarrative\, 15 min. \nPetting Zoo is about a young African-American professional named Rochelle\, who is adjusting to her new role as Assistant Director while navigating a manager who creates a hostile work environment through micromanagement and microaggressions regarding the appearance of her natural hair. \n \nHave I Swallowed Your Dreams \nProducer/Director/Writer: Clara Chan \nnarrative\, 6 min. \nA poetic conversation between an immigrant daughter and her mother about sacrifices and dreams. \n \nDragonfly \nProducers: Julia Morizawa\, James Babbin\, Brian Sturges \nDirector/Writer: Julia Morizawa \nanimation\, 13 min. \nA young girl learns of her mother’s survival of the Tokyo Firebombing on March 9-10\, 1945 through the eyes of her brother’s spirit. \n \nKULTUR \nProducers: Yety Akinola\, Maya Gwynn\, Alia Bennett \nDirector: Asari Aibangbee Writers: Asari Aibangbee\, Natalie Miles \nnarrative\, 19 min. \nA well respected white therapist suggests a social media therapy app\, called KULTUR\, for two of her patients\, both young and Black. One Trans/non-binary\, the other Cisgender femme.
URL:https://reelsisters.org/event/virtual-showcase-program-5/
LOCATION:Virtual Program
CATEGORIES:Virtual Program - Oct. 25 to Nov. 10, 2025
ATTACH;FMTTYPE=image/png:https://reelsisters.org/wp-content/uploads/2024/10/Photo-1-STILLS_HAIR_8.png
ORGANIZER;CN="Reel Sisters of the Diaspora":MAILTO:reelsisters@yahoo.com
END:VEVENT
BEGIN:VEVENT
DTSTART;VALUE=DATE:20241005
DTEND;VALUE=DATE:20241101
DTSTAMP:20260423T094610
CREATED:20241003T192309Z
LAST-MODIFIED:20241003T192330Z
UID:4629-1728086400-1730419199@reelsisters.org
SUMMARY:Reel Sisters Virtual Showcase 2024 - Program 4
DESCRIPTION:Reel Sisters is proud to present our selection of fine virtual films that you can enjoy from your living room or couch! Each section is $5 and no extra charge for film lovers who purchased All Access Passes! \nThe collection will be available from Oct. 5 through Oct. 31\, 2024 (11:59 pm EST)! \n \nInvite friends over and have a watch party! \nVIRTUAL PROGRAM 4 – Pregnancy & Birth \n \nYa Hanouni \nDirectors: Lyna Tadount\, Sofian Chouaib \nWriters: Lyna Tadount\, Sofian Chouaib \nnarrative\, 2:38 min. \nWhile the Mom and the Dad try to put their baby to sleep\, a competition arises between them: who will manage to get the baby to say the first word? \n \nAwait \nProducers: Raúl Abner Samrah\, Samara Pérez Santiago \nDirector/Writer: Samara Pérez Santiago \nnarrative\, 14 min. \nLili was convinced by her doctor\, boyfriend and parents to have a baby she did not plan or want. As she awaits in her birthing pool (her parent’s bathtub)\, Lili calls her loved ones and figures out that they will all be absent for absurd reasons. \n \nRenacer \nProducers: Kelsey McGee\, Bobbie Green\, Ximena Davis \nDirector/Writer: Jenniffer J Gonzalez Martinez \nnarrative\, 19 min. \nRenacer ignites a fiery exploration of women’s raw truths\, casting a spotlight on the electrifying journey of Valeria\, a Puerto Rican migrant who boldly embraces her right to choose with an abortion\, only to collide head-on with the searing stigma society thrusts upon women who dare to own their bodies.
URL:https://reelsisters.org/event/virtual-showcase-program-4/
LOCATION:Virtual Program
CATEGORIES:Virtual Program - Oct. 25 to Nov. 10, 2025
ATTACH;FMTTYPE=image/png:https://reelsisters.org/wp-content/uploads/2024/09/Photo-1-Image_1.png
ORGANIZER;CN="Reel Sisters of the Diaspora":MAILTO:reelsisters@yahoo.com
END:VEVENT
BEGIN:VEVENT
DTSTART;VALUE=DATE:20241005
DTEND;VALUE=DATE:20241101
DTSTAMP:20260423T094610
CREATED:20241003T191331Z
LAST-MODIFIED:20241003T191331Z
UID:4625-1728086400-1730419199@reelsisters.org
SUMMARY:Reel Sisters Virtual Showcase 2024 - Program 3
DESCRIPTION:Reel Sisters is proud to present our selection of fine virtual films that you can enjoy from your living room or couch! Each section is $5 and no extra charge for film lovers who purchased All Access Passes! \n \nThe collection will be available from Oct. 5 through Oct. 31\, 2024 (11:59 pm EST)! \nInvite friends over and have a watch party! \nVIRTUAL PROGRAM 3 \n \nThe Narrows \nProducer/Director/Writer: Stephanie Allison Daye \ndocumentary\, 87 min. \nA harrowing account of Canada’s worst case of environmental racism- the displacement and destruction of the people of Africville. In this account\, the people of Africville tell their own stories while the producers record the fall-out from a 30 year old case that has reached the ears of not only the present Mayor but all the way up to certain VIPs of the Canadian Parliament.
URL:https://reelsisters.org/event/virtual-showcase-program-3/
LOCATION:Virtual Program
CATEGORIES:Virtual Program - Oct. 25 to Nov. 10, 2025
ATTACH;FMTTYPE=image/png:https://reelsisters.org/wp-content/uploads/2024/10/Photo-2-IMG_3384.png
ORGANIZER;CN="Reel Sisters of the Diaspora":MAILTO:reelsisters@yahoo.com
END:VEVENT
BEGIN:VEVENT
DTSTART;VALUE=DATE:20241005
DTEND;VALUE=DATE:20241101
DTSTAMP:20260423T094610
CREATED:20241003T190157Z
LAST-MODIFIED:20241003T215216Z
UID:4617-1728086400-1730419199@reelsisters.org
SUMMARY:Reel Sisters Virtual Showcase 2024 - Program 2
DESCRIPTION:Reel Sisters is proud to present our selection of fine virtual films that you can enjoy from your living room or couch! Each section is $5 and no extra charge for film lovers who purchased All Access Passes! \nThe collection will be available from Oct. 5 through Oct. 31\, 2024 (11:59 pm EST)! \n \nInvite friends over and have a watch party! \nVIRTUAL PROGRAM 2 \n \nHogtown \nProducer: Ania Jamila Director/Writer: Josiane Blanc \nnarrative\, 21 min. \nForced to leave her hometown temporarily\, Manuela finds it difficult to adapt to her new surroundings. She has only one thing on her mind: moving back to Toronto. However\, an unexpected encounter turns Manuela’s life upside down\, calling into question everything she’s known up to now. \n \nGods of the Universe \nProducers: Cathy SitaRam\, Charles Mawungwa \nDirector/Writer: Cathy SitaRam \nnarrative\, 20 min. \nAdvanced beings must train star children to guide humanity to the next stage of evolution before a catastrophic event destroys Earth\, but their methods differ and time is running out. \n \nMelikhaya \nProducers: Palesa Shangase\, Katie Taylor Directors: Liziwe Damba\, Mallory Myers \nWriter: Liziwe Damba \nnarrative\, 15 min. \nBorn into a culture that values male leadership above all\, Melikhaya finds it difficult to find her place as a strong African woman. When her brother makes choices that impact the entire community\, she is forced to make a tough decision. \n 
URL:https://reelsisters.org/event/virtual-showcase-program-2/
LOCATION:Virtual Program
CATEGORIES:Virtual Program - Oct. 25 to Nov. 10, 2025
ATTACH;FMTTYPE=image/png:https://reelsisters.org/wp-content/uploads/2024/10/Photo-7-photo_option_ep203.png
ORGANIZER;CN="Reel Sisters of the Diaspora":MAILTO:reelsisters@yahoo.com
END:VEVENT
BEGIN:VEVENT
DTSTART;VALUE=DATE:20241005
DTEND;VALUE=DATE:20241101
DTSTAMP:20260423T094610
CREATED:20241003T184051Z
LAST-MODIFIED:20241003T212935Z
UID:4610-1728086400-1730419199@reelsisters.org
SUMMARY:Reel Sisters Virtual Showcase 2024 - Program 1
DESCRIPTION:Reel Sisters is proud to present our selection of fine virtual films that you can enjoy from your living room or couch! Each section is $5 and no extra charge for film lovers who purchased All Access Passes! \nThe collection will be available from Oct. 5 through Oct. 31\, 2024 (11:59 pm EST)! \nInvite friends over and have a watch party! \n \nVIRTUAL PROGRAM 1 \n \nMelanie & Kyles \nProducer: Robiii World\, Tiara West\, Marlena Robinson Director: Tiara West \nWriters: Tiara West\, Ashani Roberts \nnarrative\, 7 min. \nAmidst the captivating world of poetry\, Melanie and Kyle’s love flourishes. They explore the depth of their emotions through verses that intertwine their souls\, revealing a timeless bond of passion\, trust\, and poetic beauty that transcends their mortal existence. \n \nA Dios \nProducers: Christine Rodriguez\, Jen Viens Director/Writer: Christine Rodriguez \nnarrative\, 17 min. \nA former jazz diva\, forgotten by time\, is spending the last years of her life in a seniors’ residence with an orderly as her only friend. Unfortunately\, she fails to keep her diva ways in check and risks losing the only person she cares about\, with time running out to make amends… A short film in English and Kreyol\, set in Montreal (Tio’tia:ke)\, Canada. Available with English or French subtitles. \n \nHedgehog \nExec. Producers: Rakie Ayola\, Adam Smethurst \nDirector/Writer: Adam Smethurst \nnarrative\, 17 min. \nPoised between adolescence and adulthood and living with the challenges of NF1\, Josie’s only connection with the world is a love of Shakespeare. When new girl Ash shows up at drama class\, Josie seizes the chance to change her story. \n \nBreathe \nProducers: Jamie Burton-Oare\, Shannon E Riggs \nDirector/Writer: Jamie Burton-Oare \nnarrative\, 16 min. \nFor Eric\, it is a normal day in his life/neighborhood. For the world\, it’s the day Eric faces the reality of taking his last breath.
URL:https://reelsisters.org/event/virtual-showcase-program-1/
LOCATION:Virtual Program
CATEGORIES:Virtual Program - Oct. 25 to Nov. 10, 2025
ATTACH;FMTTYPE=image/png:https://reelsisters.org/wp-content/uploads/2024/10/Photo-3-MK_1.43.1.png
ORGANIZER;CN="Reel Sisters of the Diaspora":MAILTO:reelsisters@yahoo.com
END:VEVENT
END:VCALENDAR